Workbook
Name AssmAccounting: Assumptions!$H$15
Name AssmBankFees: Assumptions!$H$17
Name AssmBusinessCase: Assumptions!$H$11
Name AssmContingency: Assumptions!$H$21
Name AssmCoTaxRate: Assumptions!$H$10
Name AssmCrInterest: Assumptions!$H$22
Name AssmDrInterest: Assumptions!$H$28
Name AssmEquity: Assumptions!$H$30
Name AssmEquityDate: Assumptions!$H$31
Name AssmHosting: Assumptions!$H$18
Name AssmInflationRate: [1]Assumptions!$C$8
Name AssmIT: Assumptions!$H$16
Name AssmLaptop: Assumptions!$H$23
Name AssmLaptopLife: Assumptions!$H$24
Name AssmLegal: Assumptions!$H$14
Name AssmLoanAmt: Assumptions!$H$25
Name AssmLoanSecurity: Assumptions!$H$27
Name AssmLoanStart: Assumptions!$H$29
Name AssmLoanTerm: Assumptions!$H$26
Name AssmModelHeader: Assumptions!$H$13
Name AssmModelName: Assumptions!$H$8
Name AssmOffice: Assumptions!$H$19
Name AssmStaffScenario: Assumptions!$H$12
Name AssmStartDate: Assumptions!$H$9
Name AssmTelecom: Assumptions!$H$20
Name AssmTVGrowthRate: Assumptions!$H$33
Name AssmWACC: Assumptions!$H$32
Name ErrChkCalcBalanceSheet: Calculations!$H$130
Name ErrChkCummaryCashFlow: Summary!$N$60
Name ErrChkOverall: 'Error Checks'!$D$4
Name ErrChkSummaryBalanceSheet: Summary!$N$48
Name ErrChkSummaryIncomeStmt: Summary!$N$25
Name refCaseNames: tblCases[Case]
Name refStaffPositions: tblStaff[Staff]
Name refStaffScenario: tblStaffScenario[Staffing Scenario]
Name rngDest: Calculations!$I$99:$BP$99
Name rngSource: Calculations!$I$130:$BP$130
Name Start: ToC!$C$6
Name V_CashFlow: Calculations!$H$227
Name V_IRR: Calculations!$H$280
Name V_NPATperYr: Summary!$I$23:$M$23
Name V_NPV: Calculations!$H$279

Sheet ToC
B1: =AssmModelHeader -> Growth Startup (High)
B2: =RIGHT(CELL("filename",A1),LEN(CELL("filename",A1))-FIND("]",CELL("filename",A1))) -> ToC
A4: =ErrChkOverall -> TRUE
C7: Legal
C8: Exercise
C9: Error Checks
C10: Summary
C11: Calculations
C12: Assumptions
C13: Tables
C14: Format Conventions
C15: Structure
C16: Guidance
C17: ToDo
C18: Change Log

Sheet Error Checks
B1: =AssmModelHeader -> Growth Startup (High)
B2: Error Checks
A3: ToC
A4: =ErrChkOverall -> TRUE | C4: Overall error check | D4: =COUNTA(D7:D19)=COUNTIF(D7:D19,TRUE) -> TRUE
B6: Error Check | C6: RangeName | D6: Result | E6: Link | F6: Notes
B7: Summary cash Flow balances | C7: ErrChkCummaryCashFlow | D7: =INDIRECT(C7) -> TRUE | E7: =HYPERLINK("#"&C7,"Link") -> Link
B8: Summary balance sheets balance | C8: ErrChkSummaryBalanceSheet | D8: =INDIRECT(C8) -> TRUE | E8: =HYPERLINK("#"&C8,"Link") -> Link
B9: Summary income statements balance | C9: ErrChkSummaryIncomeStmt | D9: =INDIRECT(C9) -> TRUE | E9: =HYPERLINK("#"&C9,"Link") -> Link
B10: Calculations balance sheets balance | C10: ErrChkCalcBalanceSheet | D10: =INDIRECT(C10) -> TRUE | E10: =HYPERLINK("#"&C10,"Link") -> Link

Sheet Summary
C1: =AssmModelHeader -> Growth Startup (High)
C2: Annual Summary
B3: ToC
B4: =ErrChkOverall -> TRUE
H5: Total | I5: =YEAR(AssmStartDate) -> 2027 | J5: =I5+1 -> 2028 | K5: =J5+1 -> 2029 | L5: =K5+1 -> 2030 | M5: =L5+1 -> 2031 | O5: Key Information
C6: Year Number | I6: =I5-YEAR(AssmStartDate)+1 -> 1 | J6: =J5-YEAR(AssmStartDate)+1 -> 2 | K6: =K5-YEAR(AssmStartDate)+1 -> 3 | L6: =L5-YEAR(AssmStartDate)+1 -> 4 | M6: =M5-YEAR(AssmStartDate)+1 -> 5 | O6: Inputs
C7: Year end | I7: =EOMONTH(AssmStartDate,11) -> 46752 | J7: =EOMONTH(I7,12) -> 47118 | K7: =EOMONTH(J7,12) -> 47483 | L7: =EOMONTH(K7,12) -> 47848 | M7: =EOMONTH(L7,12) -> 48213 | O7: Business Case: | Q7: =AssmBusinessCase -> High
O8: Staff Scenario: | Q8: =AssmStaffScenario -> Fast
C9: Income Statement | O9: Contingency: | Q9: =AssmContingency -> 0.1
A10: =IF(D10="",1,0) -> 0 | D10: =Calculations!C22 -> Total Revenue | H10: =SUM(I10:M10) -> 472328145 | I10: =SUMIFS(OFFSET(Calculations!$I$10:$BP$10,MATCH(OFFSET(Summary!$D10,0,$A10),OFFSET(Calculations!$C$11:$C$230,0,$A10),0),0),Calculations!$I$8:$BP$8,I$6) -> 186980 | J10: =SUMIFS(OFFSET(Calculations!$I$10:$BP$10,MATCH(OFFSET(Summary!$D10,0,$A10),OFFSET(Calculations!$C$11:$C$230,0,$A10),0),0),Calculations!$I$8:$BP$8,J$6) -> 4278160 | K10: =SUMIFS(OFFSET(Calculations!$I$10:$BP$10,MATCH(OFFSET(Summary!$D10,0,$A10),OFFSET(Calculations!$C$11:$C$230,0,$A10),0),0),Calculations!$I$8:$BP$8,K$6) -> 29916775 | L10: =SUMIFS(OFFSET(Calculations!$I$10:$BP$10,MATCH(OFFSET(Summary!$D10,0,$A10),OFFSET(Calculations!$C$11:$C$230,0,$A10),0),0),Calculations!$I$8:$BP$8,L$6) -> 92683250 | M10: =SUMIFS(OFFSET(Calculations!$I$10:$BP$10,MATCH(OFFSET(Summary!$D10,0,$A10),OFFSET(Calculations!$C$11:$C$230,0,$A10),0),0),Calculations!$I$8:$BP$8,M$6) -> 345262980
A11: =IF(D11="",1,0) -> 0 | D11: =Calculations!C45 -> Total Direct Costs | H11: =SUM(I11:M11) -> 73855009 | I11: =SUMIFS(OFFSET(Calculations!$I$10:$BP$10,MATCH(OFFSET(Summary!$D11,0,$A11),OFFSET(Calculations!$C$11:$C$230,0,$A11),0),0),Calculations!$I$8:$BP$8,I$6) -> 1136927.3 | J11: =SUMIFS(OFFSET(Calculations!$I$10:$BP$10,MATCH(OFFSET(Summary!$D11,0,$A11),OFFSET(Calculations!$C$11:$C$230,0,$A11),0),0),Calculations!$I$8:$BP$8,J$6) -> 4826781.3 | K11: =SUMIFS(OFFSET(Calculations!$I$10:$BP$10,MATCH(OFFSET(Summary!$D11,0,$A11),OFFSET(Calculations!$C$11:$C$230,0,$A11),0),0),Calculations!$I$8:$BP$8,K$6) -> 9196677.5 | L11: =SUMIFS(OFFSET(Calculations!$I$10:$BP$10,MATCH(OFFSET(Summary!$D11,0,$A11),OFFSET(Calculations!$C$11:$C$230,0,$A11),0),0),Calculations!$I$8:$BP$8,L$6) -> 16718325 | M11: =SUMIFS(OFFSET(Calculations!$I$10:$BP$10,MATCH(OFFSET(Summary!$D11,0,$A11),OFFSET(Calculations!$C$11:$C$230,0,$A11),0),0),Calculations!$I$8:$BP$8,M$6) -> 41976298 | O11: Outputs
A12: =IF(D12="",1,0) -> 0 | D12: =Calculations!C47 -> Gross Profit | H12: =SUM(I12:M12) -> 3.9847314e+08 | I12: =SUMIFS(OFFSET(Calculations!$I$10:$BP$10,MATCH(OFFSET(Summary!$D12,0,$A12),OFFSET(Calculations!$C$11:$C$230,0,$A12),0),0),Calculations!$I$8:$BP$8,I$6) -> -949947.33 | J12: =SUMIFS(OFFSET(Calculations!$I$10:$BP$10,MATCH(OFFSET(Summary!$D12,0,$A12),OFFSET(Calculations!$C$11:$C$230,0,$A12),0),0),Calculations!$I$8:$BP$8,J$6) -> -548621.33 | K12: =SUMIFS(OFFSET(Calculations!$I$10:$BP$10,MATCH(OFFSET(Summary!$D12,0,$A12),OFFSET(Calculations!$C$11:$C$230,0,$A12),0),0),Calculations!$I$8:$BP$8,K$6) -> 20720098 | L12: =SUMIFS(OFFSET(Calculations!$I$10:$BP$10,MATCH(OFFSET(Summary!$D12,0,$A12),OFFSET(Calculations!$C$11:$C$230,0,$A12),0),0),Calculations!$I$8:$BP$8,L$6) -> 75964925 | M12: =SUMIFS(OFFSET(Calculations!$I$10:$BP$10,MATCH(OFFSET(Summary!$D12,0,$A12),OFFSET(Calculations!$C$11:$C$230,0,$A12),0),0),Calculations!$I$8:$BP$8,M$6) -> 303286682 | O12: Total Revenue | Q12: =Calculations!H22 -> 472328145
A13: =IF(D13="",1,0) -> 0 | D13: Gross Profit % | H13: =H12/H10 -> 0.84363623 | I13: =I12/I10 -> -5.0804756 | J13: =J12/J10 -> -0.12823768 | K13: =K12/K10 -> 0.69259128 | L13: =L12/L10 -> 0.8196187 | M13: =M12/M10 -> 0.87842224 | O13: Total NPAT | Q13: =Calculations!H92 -> 2.6453862e+08
A14: =IF(D14="",1,0) -> 1 | O14: Total Cash Flow | Q14: =Calculations!H227 -> 2.4848128e+08
A15: =IF(D15="",1,0) -> 0 | D15: =Calculations!C77 -> Total Indirect Costs | H15: =SUM(I15:M15) -> 25912322 | I15: =SUMIFS(OFFSET(Calculations!$I$10:$BP$10,MATCH(OFFSET(Summary!$D15,0,$A15),OFFSET(Calculations!$C$11:$C$230,0,$A15),0),0),Calculations!$I$8:$BP$8,I$6) -> 629088.13 | J15: =SUMIFS(OFFSET(Calculations!$I$10:$BP$10,MATCH(OFFSET(Summary!$D15,0,$A15),OFFSET(Calculations!$C$11:$C$230,0,$A15),0),0),Calculations!$I$8:$BP$8,J$6) -> 1710347.7 | K15: =SUMIFS(OFFSET(Calculations!$I$10:$BP$10,MATCH(OFFSET(Summary!$D15,0,$A15),OFFSET(Calculations!$C$11:$C$230,0,$A15),0),0),Calculations!$I$8:$BP$8,K$6) -> 3506246.8 | L15: =SUMIFS(OFFSET(Calculations!$I$10:$BP$10,MATCH(OFFSET(Summary!$D15,0,$A15),OFFSET(Calculations!$C$11:$C$230,0,$A15),0),0),Calculations!$I$8:$BP$8,L$6) -> 5987424 | M15: =SUMIFS(OFFSET(Calculations!$I$10:$BP$10,MATCH(OFFSET(Summary!$D15,0,$A15),OFFSET(Calculations!$C$11:$C$230,0,$A15),0),0),Calculations!$I$8:$BP$8,M$6) -> 14079215 | O15: Forecast period (yrs) | Q15: =M6 -> 5
A16: =IF(D16="",1,0) -> 0 | D16: =Calculations!C79 -> EBITDA | H16: =SUM(I16:M16) -> 3.7256081e+08 | I16: =SUMIFS(OFFSET(Calculations!$I$10:$BP$10,MATCH(OFFSET(Summary!$D16,0,$A16),OFFSET(Calculations!$C$11:$C$230,0,$A16),0),0),Calculations!$I$8:$BP$8,I$6) -> -1579035.5 | J16: =SUMIFS(OFFSET(Calculations!$I$10:$BP$10,MATCH(OFFSET(Summary!$D16,0,$A16),OFFSET(Calculations!$C$11:$C$230,0,$A16),0),0),Calculations!$I$8:$BP$8,J$6) -> -2258969 | K16: =SUMIFS(OFFSET(Calculations!$I$10:$BP$10,MATCH(OFFSET(Summary!$D16,0,$A16),OFFSET(Calculations!$C$11:$C$230,0,$A16),0),0),Calculations!$I$8:$BP$8,K$6) -> 17213851 | L16: =SUMIFS(OFFSET(Calculations!$I$10:$BP$10,MATCH(OFFSET(Summary!$D16,0,$A16),OFFSET(Calculations!$C$11:$C$230,0,$A16),0),0),Calculations!$I$8:$BP$8,L$6) -> 69977501 | M16: =SUMIFS(OFFSET(Calculations!$I$10:$BP$10,MATCH(OFFSET(Summary!$D16,0,$A16),OFFSET(Calculations!$C$11:$C$230,0,$A16),0),0),Calculations!$I$8:$BP$8,M$6) -> 2.8920747e+08
A17: =IF(D17="",1,0) -> 1 | E17: =Calculations!D81 -> Depreciation Expense | H17: =SUM(I17:M17) -> 188000 | I17: =SUMIFS(OFFSET(Calculations!$I$10:$BP$10,MATCH(OFFSET(Summary!$D17,0,$A17),OFFSET(Calculations!$C$11:$C$230,0,$A17),0),0),Calculations!$I$8:$BP$8,I$6) -> 14575 | J17: =SUMIFS(OFFSET(Calculations!$I$10:$BP$10,MATCH(OFFSET(Summary!$D17,0,$A17),OFFSET(Calculations!$C$11:$C$230,0,$A17),0),0),Calculations!$I$8:$BP$8,J$6) -> 45166.667 | K17: =SUMIFS(OFFSET(Calculations!$I$10:$BP$10,MATCH(OFFSET(Summary!$D17,0,$A17),OFFSET(Calculations!$C$11:$C$230,0,$A17),0),0),Calculations!$I$8:$BP$8,K$6) -> 63925 | L17: =SUMIFS(OFFSET(Calculations!$I$10:$BP$10,MATCH(OFFSET(Summary!$D17,0,$A17),OFFSET(Calculations!$C$11:$C$230,0,$A17),0),0),Calculations!$I$8:$BP$8,L$6) -> 48833.333 | M17: =SUMIFS(OFFSET(Calculations!$I$10:$BP$10,MATCH(OFFSET(Summary!$D17,0,$A17),OFFSET(Calculations!$C$11:$C$230,0,$A17),0),0),Calculations!$I$8:$BP$8,M$6) -> 15500 | O17: Investment Analysis
A18: =IF(D18="",1,0) -> 0 | D18: =Calculations!C83 -> EBIT | H18: =SUM(I18:M18) -> 3.7237281e+08 | I18: =SUMIFS(OFFSET(Calculations!$I$10:$BP$10,MATCH(OFFSET(Summary!$D18,0,$A18),OFFSET(Calculations!$C$11:$C$230,0,$A18),0),0),Calculations!$I$8:$BP$8,I$6) -> -1593610.5 | J18: =SUMIFS(OFFSET(Calculations!$I$10:$BP$10,MATCH(OFFSET(Summary!$D18,0,$A18),OFFSET(Calculations!$C$11:$C$230,0,$A18),0),0),Calculations!$I$8:$BP$8,J$6) -> -2304135.7 | K18: =SUMIFS(OFFSET(Calculations!$I$10:$BP$10,MATCH(OFFSET(Summary!$D18,0,$A18),OFFSET(Calculations!$C$11:$C$230,0,$A18),0),0),Calculations!$I$8:$BP$8,K$6) -> 17149926 | L18: =SUMIFS(OFFSET(Calculations!$I$10:$BP$10,MATCH(OFFSET(Summary!$D18,0,$A18),OFFSET(Calculations!$C$11:$C$230,0,$A18),0),0),Calculations!$I$8:$BP$8,L$6) -> 69928668 | M18: =SUMIFS(OFFSET(Calculations!$I$10:$BP$10,MATCH(OFFSET(Summary!$D18,0,$A18),OFFSET(Calculations!$C$11:$C$230,0,$A18),0),0),Calculations!$I$8:$BP$8,M$6) -> 2.8919197e+08 | O18: WACC | Q18: =AssmWACC -> 0.1
A19: =IF(D19="",1,0) -> 1 | E19: =Calculations!D85 -> Interest Income | H19: =SUM(I19:M19) -> 5618446.2 | I19: =SUMIFS(OFFSET(Calculations!$I$10:$BP$10,MATCH(OFFSET(Summary!$D19,0,$A19),OFFSET(Calculations!$C$11:$C$230,0,$A19),0),0),Calculations!$I$8:$BP$8,I$6) -> 39237.005 | J19: =SUMIFS(OFFSET(Calculations!$I$10:$BP$10,MATCH(OFFSET(Summary!$D19,0,$A19),OFFSET(Calculations!$C$11:$C$230,0,$A19),0),0),Calculations!$I$8:$BP$8,J$6) -> -58859.953 | K19: =SUMIFS(OFFSET(Calculations!$I$10:$BP$10,MATCH(OFFSET(Summary!$D19,0,$A19),OFFSET(Calculations!$C$11:$C$230,0,$A19),0),0),Calculations!$I$8:$BP$8,K$6) -> 55257.767 | L19: =SUMIFS(OFFSET(Calculations!$I$10:$BP$10,MATCH(OFFSET(Summary!$D19,0,$A19),OFFSET(Calculations!$C$11:$C$230,0,$A19),0),0),Calculations!$I$8:$BP$8,L$6) -> 939014.13 | M19: =SUMIFS(OFFSET(Calculations!$I$10:$BP$10,MATCH(OFFSET(Summary!$D19,0,$A19),OFFSET(Calculations!$C$11:$C$230,0,$A19),0),0),Calculations!$I$8:$BP$8,M$6) -> 4643797.3 | O19: NPV | Q19: =Calculations!H279 -> 3.586123e+08
A20: =IF(D20="",1,0) -> 1 | E20: =Calculations!D86 -> Interest Expense | H20: =SUM(I20:M20) -> 78952.31 | I20: =SUMIFS(OFFSET(Calculations!$I$10:$BP$10,MATCH(OFFSET(Summary!$D20,0,$A20),OFFSET(Calculations!$C$11:$C$230,0,$A20),0),0),Calculations!$I$8:$BP$8,I$6) -> 33591.5 | J20: =SUMIFS(OFFSET(Calculations!$I$10:$BP$10,MATCH(OFFSET(Summary!$D20,0,$A20),OFFSET(Calculations!$C$11:$C$230,0,$A20),0),0),Calculations!$I$8:$BP$8,J$6) -> 30722.64 | K20: =SUMIFS(OFFSET(Calculations!$I$10:$BP$10,MATCH(OFFSET(Summary!$D20,0,$A20),OFFSET(Calculations!$C$11:$C$230,0,$A20),0),0),Calculations!$I$8:$BP$8,K$6) -> 13894.06 | L20: =SUMIFS(OFFSET(Calculations!$I$10:$BP$10,MATCH(OFFSET(Summary!$D20,0,$A20),OFFSET(Calculations!$C$11:$C$230,0,$A20),0),0),Calculations!$I$8:$BP$8,L$6) -> 744.11 | M20: =SUMIFS(OFFSET(Calculations!$I$10:$BP$10,MATCH(OFFSET(Summary!$D20,0,$A20),OFFSET(Calculations!$C$11:$C$230,0,$A20),0),0),Calculations!$I$8:$BP$8,M$6) -> 0 | O20: IRR | Q20: =Calculations!H280 -> 3.7125932
A21: =IF(D21="",1,0) -> 0 | D21: =Calculations!C88 -> EBT | H21: =SUM(I21:M21) -> 3.7791231e+08 | I21: =SUMIFS(OFFSET(Calculations!$I$10:$BP$10,MATCH(OFFSET(Summary!$D21,0,$A21),OFFSET(Calculations!$C$11:$C$230,0,$A21),0),0),Calculations!$I$8:$BP$8,I$6) -> -1587965 | J21: =SUMIFS(OFFSET(Calculations!$I$10:$BP$10,MATCH(OFFSET(Summary!$D21,0,$A21),OFFSET(Calculations!$C$11:$C$230,0,$A21),0),0),Calculations!$I$8:$BP$8,J$6) -> -2393718.2 | K21: =SUMIFS(OFFSET(Calculations!$I$10:$BP$10,MATCH(OFFSET(Summary!$D21,0,$A21),OFFSET(Calculations!$C$11:$C$230,0,$A21),0),0),Calculations!$I$8:$BP$8,K$6) -> 17191289 | L21: =SUMIFS(OFFSET(Calculations!$I$10:$BP$10,MATCH(OFFSET(Summary!$D21,0,$A21),OFFSET(Calculations!$C$11:$C$230,0,$A21),0),0),Calculations!$I$8:$BP$8,L$6) -> 70866938 | M21: =SUMIFS(OFFSET(Calculations!$I$10:$BP$10,MATCH(OFFSET(Summary!$D21,0,$A21),OFFSET(Calculations!$C$11:$C$230,0,$A21),0),0),Calculations!$I$8:$BP$8,M$6) -> 2.9383576e+08 | O21: Payback period (mths) | Q21: =Calculations!H271 -> 32
A22: =IF(D22="",1,0) -> 1 | E22: =Calculations!D90 -> Tax expense | H22: =SUM(I22:M22) -> 1.1337369e+08 | I22: =SUMIFS(OFFSET(Calculations!$I$10:$BP$10,MATCH(OFFSET(Summary!$D22,0,$A22),OFFSET(Calculations!$C$11:$C$230,0,$A22),0),0),Calculations!$I$8:$BP$8,I$6) -> 0 | J22: =SUMIFS(OFFSET(Calculations!$I$10:$BP$10,MATCH(OFFSET(Summary!$D22,0,$A22),OFFSET(Calculations!$C$11:$C$230,0,$A22),0),0),Calculations!$I$8:$BP$8,J$6) -> 0 | K22: =SUMIFS(OFFSET(Calculations!$I$10:$BP$10,MATCH(OFFSET(Summary!$D22,0,$A22),OFFSET(Calculations!$C$11:$C$230,0,$A22),0),0),Calculations!$I$8:$BP$8,K$6) -> 3962881.9 | L22: =SUMIFS(OFFSET(Calculations!$I$10:$BP$10,MATCH(OFFSET(Summary!$D22,0,$A22),OFFSET(Calculations!$C$11:$C$230,0,$A22),0),0),Calculations!$I$8:$BP$8,L$6) -> 21260081 | M22: =SUMIFS(OFFSET(Calculations!$I$10:$BP$10,MATCH(OFFSET(Summary!$D22,0,$A22),OFFSET(Calculations!$C$11:$C$230,0,$A22),0),0),Calculations!$I$8:$BP$8,M$6) -> 88150729 | O22: Funding Requirement | Q22: =-Calculations!H272 -> 3133646.2
A23: =IF(D23="",1,0) -> 0 | D23: =Calculations!C92 -> NPAT | H23: =SUM(I23:M23) -> 2.6453862e+08 | I23: =SUMIFS(OFFSET(Calculations!$I$10:$BP$10,MATCH(OFFSET(Summary!$D23,0,$A23),OFFSET(Calculations!$C$11:$C$230,0,$A23),0),0),Calculations!$I$8:$BP$8,I$6) -> -1587965 | J23: =SUMIFS(OFFSET(Calculations!$I$10:$BP$10,MATCH(OFFSET(Summary!$D23,0,$A23),OFFSET(Calculations!$C$11:$C$230,0,$A23),0),0),Calculations!$I$8:$BP$8,J$6) -> -2393718.2 | K23: =SUMIFS(OFFSET(Calculations!$I$10:$BP$10,MATCH(OFFSET(Summary!$D23,0,$A23),OFFSET(Calculations!$C$11:$C$230,0,$A23),0),0),Calculations!$I$8:$BP$8,K$6) -> 13228408 | L23: =SUMIFS(OFFSET(Calculations!$I$10:$BP$10,MATCH(OFFSET(Summary!$D23,0,$A23),OFFSET(Calculations!$C$11:$C$230,0,$A23),0),0),Calculations!$I$8:$BP$8,L$6) -> 49606856 | M23: =SUMIFS(OFFSET(Calculations!$I$10:$BP$10,MATCH(OFFSET(Summary!$D23,0,$A23),OFFSET(Calculations!$C$11:$C$230,0,$A23),0),0),Calculations!$I$8:$BP$8,M$6) -> 2.0568503e+08
D25: check income statements balance | H25: =ROUND(H12-H15-H17+H19-H20-H22-H23,0) -> 0 | I25: =ROUND(I12-I15-I17+I19-I20-I22-I23,0) -> 0 | J25: =ROUND(J12-J15-J17+J19-J20-J22-J23,0) -> 0 | K25: =ROUND(K12-K15-K17+K19-K20-K22-K23,0) -> 0 | L25: =ROUND(L12-L15-L17+L19-L20-L22-L23,0) -> 0 | M25: =ROUND(M12-M15-M17+M19-M20-M22-M23,0) -> 0 | N25: =COUNTIF(H25:M25,0)=COUNT(H25:M25) -> TRUE
E27: Closing customers | I27: =INDEX(Calculations!$I$7:$BP$231,MATCH(Summary!$E27,Calculations!$D$7:$D$231,0),MATCH(Summary!I$7,Calculations!$I$6:$BP$6,0)) -> 2239 | J27: =INDEX(Calculations!$I$7:$BP$231,MATCH(Summary!$E27,Calculations!$D$7:$D$231,0),MATCH(Summary!J$7,Calculations!$I$6:$BP$6,0)) -> 51407 | K27: =INDEX(Calculations!$I$7:$BP$231,MATCH(Summary!$E27,Calculations!$D$7:$D$231,0),MATCH(Summary!K$7,Calculations!$I$6:$BP$6,0)) -> 158703 | L27: =INDEX(Calculations!$I$7:$BP$231,MATCH(Summary!$E27,Calculations!$D$7:$D$231,0),MATCH(Summary!L$7,Calculations!$I$6:$BP$6,0)) -> 492661 | M27: =INDEX(Calculations!$I$7:$BP$231,MATCH(Summary!$E27,Calculations!$D$7:$D$231,0),MATCH(Summary!M$7,Calculations!$I$6:$BP$6,0)) -> 1529387
E28: Net profit per customer | I28: =I23/I27 -> -709.22955 | J28: =J23/J27 -> -46.564052 | K28: =K23/K27 -> 83.353229 | L28: =L23/L27 -> 100.69167 | M28: =M23/M27 -> 134.48855
C30: Balance Sheet
D31: Assets
E32: =Calculations!D101 -> Total Current Assets | I32: =INDEX(Calculations!$I$95:$BP$231,MATCH(Summary!$E32,Calculations!$D$95:$D$231,0),MATCH(Summary!I$7,Calculations!$I$6:$BP$6,0)) -> 165692.84 | J32: =INDEX(Calculations!$I$95:$BP$231,MATCH(Summary!$E32,Calculations!$D$95:$D$231,0),MATCH(Summary!J$7,Calculations!$I$6:$BP$6,0)) -> -2495055.3 | K32: =INDEX(Calculations!$I$95:$BP$231,MATCH(Summary!$E32,Calculations!$D$95:$D$231,0),MATCH(Summary!K$7,Calculations!$I$6:$BP$6,0)) -> 11269788 | L32: =INDEX(Calculations!$I$95:$BP$231,MATCH(Summary!$E32,Calculations!$D$95:$D$231,0),MATCH(Summary!L$7,Calculations!$I$6:$BP$6,0)) -> 63315394 | M32: =INDEX(Calculations!$I$95:$BP$231,MATCH(Summary!$E32,Calculations!$D$95:$D$231,0),MATCH(Summary!M$7,Calculations!$I$6:$BP$6,0)) -> 2.789824e+08
E33: =Calculations!D107 -> Total Non-Current Assets | I33: =INDEX(Calculations!$I$95:$BP$231,MATCH(Summary!$E33,Calculations!$D$95:$D$231,0),MATCH(Summary!I$7,Calculations!$I$6:$BP$6,0)) -> 41425 | J33: =INDEX(Calculations!$I$95:$BP$231,MATCH(Summary!$E33,Calculations!$D$95:$D$231,0),MATCH(Summary!J$7,Calculations!$I$6:$BP$6,0)) -> 62258.333 | K33: =INDEX(Calculations!$I$95:$BP$231,MATCH(Summary!$E33,Calculations!$D$95:$D$231,0),MATCH(Summary!K$7,Calculations!$I$6:$BP$6,0)) -> 64333.333 | L33: =INDEX(Calculations!$I$95:$BP$231,MATCH(Summary!$E33,Calculations!$D$95:$D$231,0),MATCH(Summary!L$7,Calculations!$I$6:$BP$6,0)) -> 15500 | M33: =INDEX(Calculations!$I$95:$BP$231,MATCH(Summary!$E33,Calculations!$D$95:$D$231,0),MATCH(Summary!M$7,Calculations!$I$6:$BP$6,0)) -> 0
D34: Total Assets | I34: =SUM(I32:I33) -> 207117.84 | J34: =SUM(J32:J33) -> -2432796.9 | K34: =SUM(K32:K33) -> 11334121 | L34: =SUM(L32:L33) -> 63330894 | M34: =SUM(M32:M33) -> 2.789824e+08
D36: Liabilities
E37: =Calculations!D115 -> Total Current Liabilities | I37: =INDEX(Calculations!$I$95:$BP$231,MATCH(Summary!$E37,Calculations!$D$95:$D$231,0),MATCH(Summary!I$7,Calculations!$I$6:$BP$6,0)) -> 31229.375 | J37: =INDEX(Calculations!$I$95:$BP$231,MATCH(Summary!$E37,Calculations!$D$95:$D$231,0),MATCH(Summary!J$7,Calculations!$I$6:$BP$6,0)) -> 113960.98 | K37: =INDEX(Calculations!$I$95:$BP$231,MATCH(Summary!$E37,Calculations!$D$95:$D$231,0),MATCH(Summary!K$7,Calculations!$I$6:$BP$6,0)) -> 998227.96 | L37: =INDEX(Calculations!$I$95:$BP$231,MATCH(Summary!$E37,Calculations!$D$95:$D$231,0),MATCH(Summary!L$7,Calculations!$I$6:$BP$6,0)) -> 3477313.3 | M37: =INDEX(Calculations!$I$95:$BP$231,MATCH(Summary!$E37,Calculations!$D$95:$D$231,0),MATCH(Summary!M$7,Calculations!$I$6:$BP$6,0)) -> 13443783
E38: =Calculations!D119 -> Total Non-Current Liabilities | I38: =INDEX(Calculations!$I$95:$BP$231,MATCH(Summary!$E38,Calculations!$D$95:$D$231,0),MATCH(Summary!I$7,Calculations!$I$6:$BP$6,0)) -> 763853.42 | J38: =INDEX(Calculations!$I$95:$BP$231,MATCH(Summary!$E38,Calculations!$D$95:$D$231,0),MATCH(Summary!J$7,Calculations!$I$6:$BP$6,0)) -> 434925.3 | K38: =INDEX(Calculations!$I$95:$BP$231,MATCH(Summary!$E38,Calculations!$D$95:$D$231,0),MATCH(Summary!K$7,Calculations!$I$6:$BP$6,0)) -> 89168.59 | L38: =INDEX(Calculations!$I$95:$BP$231,MATCH(Summary!$E38,Calculations!$D$95:$D$231,0),MATCH(Summary!L$7,Calculations!$I$6:$BP$6,0)) -> -2.4170874e-10 | M38: =INDEX(Calculations!$I$95:$BP$231,MATCH(Summary!$E38,Calculations!$D$95:$D$231,0),MATCH(Summary!M$7,Calculations!$I$6:$BP$6,0)) -> -2.5407501e-10
D39: Total Liabilities | I39: =SUM(I37:I38) -> 795082.8 | J39: =SUM(J37:J38) -> 548886.28 | K39: =SUM(K37:K38) -> 1087396.5 | L39: =SUM(L37:L38) -> 3477313.3 | M39: =SUM(M37:M38) -> 13443783
D41: Net Assets | I41: =I34-I39 -> -587964.96 | J41: =J34-J39 -> -2981683.2 | K41: =K34-K39 -> 10246724 | L41: =L34-L39 -> 59853581 | M41: =M34-M39 -> 2.6553862e+08
D43: Shareholders' Equity
E44: =Calculations!D126 -> Shareholders' Equity | I44: =INDEX(Calculations!$I$95:$BP$231,MATCH(Summary!$E44,Calculations!$D$95:$D$231,0),MATCH(Summary!I$7,Calculations!$I$6:$BP$6,0)) -> 1000000 | J44: =INDEX(Calculations!$I$95:$BP$231,MATCH(Summary!$E44,Calculations!$D$95:$D$231,0),MATCH(Summary!J$7,Calculations!$I$6:$BP$6,0)) -> 1000000 | K44: =INDEX(Calculations!$I$95:$BP$231,MATCH(Summary!$E44,Calculations!$D$95:$D$231,0),MATCH(Summary!K$7,Calculations!$I$6:$BP$6,0)) -> 1000000 | L44: =INDEX(Calculations!$I$95:$BP$231,MATCH(Summary!$E44,Calculations!$D$95:$D$231,0),MATCH(Summary!L$7,Calculations!$I$6:$BP$6,0)) -> 1000000 | M44: =INDEX(Calculations!$I$95:$BP$231,MATCH(Summary!$E44,Calculations!$D$95:$D$231,0),MATCH(Summary!M$7,Calculations!$I$6:$BP$6,0)) -> 1000000
E45: =Calculations!D127 -> Accumulated profits/(losses) | I45: =INDEX(Calculations!$I$95:$BP$231,MATCH(Summary!$E45,Calculations!$D$95:$D$231,0),MATCH(Summary!I$7,Calculations!$I$6:$BP$6,0)) -> -1587965 | J45: =INDEX(Calculations!$I$95:$BP$231,MATCH(Summary!$E45,Calculations!$D$95:$D$231,0),MATCH(Summary!J$7,Calculations!$I$6:$BP$6,0)) -> -3981683.2 | K45: =INDEX(Calculations!$I$95:$BP$231,MATCH(Summary!$E45,Calculations!$D$95:$D$231,0),MATCH(Summary!K$7,Calculations!$I$6:$BP$6,0)) -> 9246724.3 | L45: =INDEX(Calculations!$I$95:$BP$231,MATCH(Summary!$E45,Calculations!$D$95:$D$231,0),MATCH(Summary!L$7,Calculations!$I$6:$BP$6,0)) -> 58853581 | M45: =INDEX(Calculations!$I$95:$BP$231,MATCH(Summary!$E45,Calculations!$D$95:$D$231,0),MATCH(Summary!M$7,Calculations!$I$6:$BP$6,0)) -> 2.6453862e+08
D46: Total Shareholders' Equity | I46: =SUM(I44:I45) -> -587964.96 | J46: =SUM(J44:J45) -> -2981683.2 | K46: =SUM(K44:K45) -> 10246724 | L46: =SUM(L44:L45) -> 59853581 | M46: =SUM(M44:M45) -> 2.6553862e+08
...

Sheet Calculations
B1: =AssmModelHeader -> Growth Startup (High)
B2: Income Statement
A3: ToC
A4: =ErrChkOverall -> TRUE
B6: Dates | H6: Workings | I6: =Assumptions!I59 -> 46418 | J6: =Assumptions!J59 -> 46446 | K6: =Assumptions!K59 -> 46477 | L6: =Assumptions!L59 -> 46507 | M6: =Assumptions!M59 -> 46538 | N6: =Assumptions!N59 -> 46568 | O6: =Assumptions!O59 -> 46599 | P6: =Assumptions!P59 -> 46630 | ... BP6: =Assumptions!BP59 -> 48213
C7: Month Number | I7: =Assumptions!I60 -> 1 | J7: =Assumptions!J60 -> 2 | K7: =Assumptions!K60 -> 3 | L7: =Assumptions!L60 -> 4 | M7: =Assumptions!M60 -> 5 | N7: =Assumptions!N60 -> 6 | O7: =Assumptions!O60 -> 7 | P7: =Assumptions!P60 -> 8 | ... BP7: =Assumptions!BP60 -> 60
C8: Year Number | I8: =Assumptions!I62 -> 1 | J8: =Assumptions!J62 -> 1 | K8: =Assumptions!K62 -> 1 | L8: =Assumptions!L62 -> 1 | M8: =Assumptions!M62 -> 1 | N8: =Assumptions!N62 -> 1 | O8: =Assumptions!O62 -> 1 | P8: =Assumptions!P62 -> 1 | ... BP8: =Assumptions!BP62 -> 5
B10: Income Statement
C11: Customer Growth Rate per month | H11: CustomerNum | I11: =SUMIFS(INDEX(tblAnnualAssm[],,MATCH(TEXT(Calculations!I$8,"0"),tblAnnualAssm[#Headers],0)),tblAnnualAssm[Case],AssmBusinessCase,tblAnnualAssm[Input Type],$H11) -> 0.3 | J11: =SUMIFS(INDEX(tblAnnualAssm[],,MATCH(TEXT(Calculations!J$8,"0"),tblAnnualAssm[#Headers],0)),tblAnnualAssm[Case],AssmBusinessCase,tblAnnualAssm[Input Type],$H11) -> 0.3 | K11: =SUMIFS(INDEX(tblAnnualAssm[],,MATCH(TEXT(Calculations!K$8,"0"),tblAnnualAssm[#Headers],0)),tblAnnualAssm[Case],AssmBusinessCase,tblAnnualAssm[Input Type],$H11) -> 0.3 | L11: =SUMIFS(INDEX(tblAnnualAssm[],,MATCH(TEXT(Calculations!L$8,"0"),tblAnnualAssm[#Headers],0)),tblAnnualAssm[Case],AssmBusinessCase,tblAnnualAssm[Input Type],$H11) -> 0.3 | M11: =SUMIFS(INDEX(tblAnnualAssm[],,MATCH(TEXT(Calculations!M$8,"0"),tblAnnualAssm[#Headers],0)),tblAnnualAssm[Case],AssmBusinessCase,tblAnnualAssm[Input Type],$H11) -> 0.3 | N11: =SUMIFS(INDEX(tblAnnualAssm[],,MATCH(TEXT(Calculations!N$8,"0"),tblAnnualAssm[#Headers],0)),tblAnnualAssm[Case],AssmBusinessCase,tblAnnualAssm[Input Type],$H11) -> 0.3 | O11: =SUMIFS(INDEX(tblAnnualAssm[],,MATCH(TEXT(Calculations!O$8,"0"),tblAnnualAssm[#Headers],0)),tblAnnualAssm[Case],AssmBusinessCase,tblAnnualAssm[Input Type],$H11) -> 0.3 | P11: =SUMIFS(INDEX(tblAnnualAssm[],,MATCH(TEXT(Calculations!P$8,"0"),tblAnnualAssm[#Headers],0)),tblAnnualAssm[Case],AssmBusinessCase,tblAnnualAssm[Input Type],$H11) -> 0.3 | ... BP11: =SUMIFS(INDEX(tblAnnualAssm[],,MATCH(TEXT(Calculations!BP$8,"0"),tblAnnualAssm[#Headers],0)),tblAnnualAssm[Case],AssmBusinessCase,tblAnnualAssm[Input Type],$H11) -> 0.1
C12: Attrition Rate | H12: AttritionRate | I12: =SUMIFS(OFFSET(tblAnnualAssm[Case],0,MATCH(TEXT(Calculations!I$8,0),tblAnnualAssm[#Headers],0)-1),tblAnnualAssm[Case],AssmBusinessCase,tblAnnualAssm[Input Type],Calculations!$H12) -> 0.0025 | J12: =SUMIFS(OFFSET(tblAnnualAssm[Case],0,MATCH(TEXT(Calculations!J$8,0),tblAnnualAssm[#Headers],0)-1),tblAnnualAssm[Case],AssmBusinessCase,tblAnnualAssm[Input Type],Calculations!$H12) -> 0.0025 | K12: =SUMIFS(OFFSET(tblAnnualAssm[Case],0,MATCH(TEXT(Calculations!K$8,0),tblAnnualAssm[#Headers],0)-1),tblAnnualAssm[Case],AssmBusinessCase,tblAnnualAssm[Input Type],Calculations!$H12) -> 0.0025 | L12: =SUMIFS(OFFSET(tblAnnualAssm[Case],0,MATCH(TEXT(Calculations!L$8,0),tblAnnualAssm[#Headers],0)-1),tblAnnualAssm[Case],AssmBusinessCase,tblAnnualAssm[Input Type],Calculations!$H12) -> 0.0025 | M12: =SUMIFS(OFFSET(tblAnnualAssm[Case],0,MATCH(TEXT(Calculations!M$8,0),tblAnnualAssm[#Headers],0)-1),tblAnnualAssm[Case],AssmBusinessCase,tblAnnualAssm[Input Type],Calculations!$H12) -> 0.0025 | N12: =SUMIFS(OFFSET(tblAnnualAssm[Case],0,MATCH(TEXT(Calculations!N$8,0),tblAnnualAssm[#Headers],0)-1),tblAnnualAssm[Case],AssmBusinessCase,tblAnnualAssm[Input Type],Calculations!$H12) -> 0.0025 | O12: =SUMIFS(OFFSET(tblAnnualAssm[Case],0,MATCH(TEXT(Calculations!O$8,0),tblAnnualAssm[#Headers],0)-1),tblAnnualAssm[Case],AssmBusinessCase,tblAnnualAssm[Input Type],Calculations!$H12) -> 0.0025 | P12: =SUMIFS(OFFSET(tblAnnualAssm[Case],0,MATCH(TEXT(Calculations!P$8,0),tblAnnualAssm[#Headers],0)-1),tblAnnualAssm[Case],AssmBusinessCase,tblAnnualAssm[Input Type],Calculations!$H12) -> 0.0025 | ... BP12: =SUMIFS(OFFSET(tblAnnualAssm[Case],0,MATCH(TEXT(Calculations!BP$8,0),tblAnnualAssm[#Headers],0)-1),tblAnnualAssm[Case],AssmBusinessCase,tblAnnualAssm[Input Type],Calculations!$H12) -> 0.001
C14: Customer Numbers
D15: Opening Customers | I15: =H18 -> 100 | J15: =I18 -> 129 | K15: =J18 -> 167 | L15: =K18 -> 216 | M15: =L18 -> 280 | N15: =M18 -> 363 | O15: =N18 -> 471 | P15: =O18 -> 610 | ... BP15: =BO18 -> 1391617
E16: New Customers | I16: =ROUND(I15*I11,0) -> 30 | J16: =ROUND(J15*J11,0) -> 39 | K16: =ROUND(K15*K11,0) -> 50 | L16: =ROUND(L15*L11,0) -> 65 | M16: =ROUND(M15*M11,0) -> 84 | N16: =ROUND(N15*N11,0) -> 109 | O16: =ROUND(O15*O11,0) -> 141 | P16: =ROUND(P15*P11,0) -> 183 | ... BP16: =ROUND(BP15*BP11,0) -> 139162
E17: Attrition | I17: =-ROUNDUP(I15*I12,0) -> -1 | J17: =-ROUNDUP(J15*J12,0) -> -1 | K17: =-ROUNDUP(K15*K12,0) -> -1 | L17: =-ROUNDUP(L15*L12,0) -> -1 | M17: =-ROUNDUP(M15*M12,0) -> -1 | N17: =-ROUNDUP(N15*N12,0) -> -1 | O17: =-ROUNDUP(O15*O12,0) -> -2 | P17: =-ROUNDUP(P15*P12,0) -> -2 | ... BP17: =-ROUNDUP(BP15*BP12,0) -> -1392
D18: Closing Customers | H18: =INDEX(tblCases[Starting Customers],MATCH(AssmBusinessCase,tblCases[Case],0)) -> 100 | I18: =SUM(I15:I17) -> 129 | J18: =SUM(J15:J17) -> 167 | K18: =SUM(K15:K17) -> 216 | L18: =SUM(L15:L17) -> 280 | M18: =SUM(M15:M17) -> 363 | N18: =SUM(N15:N17) -> 471 | O18: =SUM(O15:O17) -> 610 | P18: =SUM(P15:P17) -> 791 | ... BP18: =SUM(BP15:BP17) -> 1529387
C20: Monthly fee | H20: Price | I20: =SUMIFS(INDEX(tblAnnualAssm[],,MATCH(TEXT(Calculations!I$8,"0"),tblAnnualAssm[#Headers],0)),tblAnnualAssm[Case],AssmBusinessCase,tblAnnualAssm[Input Type],$H20) -> 20 | J20: =SUMIFS(INDEX(tblAnnualAssm[],,MATCH(TEXT(Calculations!J$8,"0"),tblAnnualAssm[#Headers],0)),tblAnnualAssm[Case],AssmBusinessCase,tblAnnualAssm[Input Type],$H20) -> 20 | K20: =SUMIFS(INDEX(tblAnnualAssm[],,MATCH(TEXT(Calculations!K$8,"0"),tblAnnualAssm[#Headers],0)),tblAnnualAssm[Case],AssmBusinessCase,tblAnnualAssm[Input Type],$H20) -> 20 | L20: =SUMIFS(INDEX(tblAnnualAssm[],,MATCH(TEXT(Calculations!L$8,"0"),tblAnnualAssm[#Headers],0)),tblAnnualAssm[Case],AssmBusinessCase,tblAnnualAssm[Input Type],$H20) -> 20 | M20: =SUMIFS(INDEX(tblAnnualAssm[],,MATCH(TEXT(Calculations!M$8,"0"),tblAnnualAssm[#Headers],0)),tblAnnualAssm[Case],AssmBusinessCase,tblAnnualAssm[Input Type],$H20) -> 20 | N20: =SUMIFS(INDEX(tblAnnualAssm[],,MATCH(TEXT(Calculations!N$8,"0"),tblAnnualAssm[#Headers],0)),tblAnnualAssm[Case],AssmBusinessCase,tblAnnualAssm[Input Type],$H20) -> 20 | O20: =SUMIFS(INDEX(tblAnnualAssm[],,MATCH(TEXT(Calculations!O$8,"0"),tblAnnualAssm[#Headers],0)),tblAnnualAssm[Case],AssmBusinessCase,tblAnnualAssm[Input Type],$H20) -> 20 | P20: =SUMIFS(INDEX(tblAnnualAssm[],,MATCH(TEXT(Calculations!P$8,"0"),tblAnnualAssm[#Headers],0)),tblAnnualAssm[Case],AssmBusinessCase,tblAnnualAssm[Input Type],$H20) -> 20 | ... BP20: =SUMIFS(INDEX(tblAnnualAssm[],,MATCH(TEXT(Calculations!BP$8,"0"),tblAnnualAssm[#Headers],0)),tblAnnualAssm[Case],AssmBusinessCase,tblAnnualAssm[Input Type],$H20) -> 30
C22: Total Revenue | H22: =SUM(I22:BP22) -> 472328145 | I22: =I20*I18 -> 2580 | J22: =J20*J18 -> 3340 | K22: =K20*K18 -> 4320 | L22: =L20*L18 -> 5600 | M22: =M20*M18 -> 7260 | N22: =N20*N18 -> 9420 | O22: =O20*O18 -> 12200 | P22: =P20*P18 -> 15820 | ... BP22: =BP20*BP18 -> 45881610
C24: Direct Costs
D25: Staff
E26: Staff Numbers | H26: Annual Salary
F27: CTO | H27: =INDEX(tblStaff[Salary],MATCH(Calculations!F27,tblStaff[Staff],0)) -> 120000 | I27: =SUMIFS(Assumptions!I$66:I$118,Assumptions!$F$66:$F$118,AssmStaffScenario,Assumptions!$G$66:$G$118,Calculations!$F27) -> 0 | J27: =SUMIFS(Assumptions!J$66:J$118,Assumptions!$F$66:$F$118,AssmStaffScenario,Assumptions!$G$66:$G$118,Calculations!$F27) -> 1 | K27: =SUMIFS(Assumptions!K$66:K$118,Assumptions!$F$66:$F$118,AssmStaffScenario,Assumptions!$G$66:$G$118,Calculations!$F27) -> 1 | L27: =SUMIFS(Assumptions!L$66:L$118,Assumptions!$F$66:$F$118,AssmStaffScenario,Assumptions!$G$66:$G$118,Calculations!$F27) -> 1 | M27: =SUMIFS(Assumptions!M$66:M$118,Assumptions!$F$66:$F$118,AssmStaffScenario,Assumptions!$G$66:$G$118,Calculations!$F27) -> 1 | N27: =SUMIFS(Assumptions!N$66:N$118,Assumptions!$F$66:$F$118,AssmStaffScenario,Assumptions!$G$66:$G$118,Calculations!$F27) -> 1 | O27: =SUMIFS(Assumptions!O$66:O$118,Assumptions!$F$66:$F$118,AssmStaffScenario,Assumptions!$G$66:$G$118,Calculations!$F27) -> 1 | P27: =SUMIFS(Assumptions!P$66:P$118,Assumptions!$F$66:$F$118,AssmStaffScenario,Assumptions!$G$66:$G$118,Calculations!$F27) -> 1 | ... BP27: =SUMIFS(Assumptions!BP$66:BP$118,Assumptions!$F$66:$F$118,AssmStaffScenario,Assumptions!$G$66:$G$118,Calculations!$F27) -> 1
F28: Senior Programmer | H28: =INDEX(tblStaff[Salary],MATCH(Calculations!F28,tblStaff[Staff],0)) -> 100000 | I28: =SUMIFS(Assumptions!I$66:I$118,Assumptions!$F$66:$F$118,AssmStaffScenario,Assumptions!$G$66:$G$118,Calculations!$F28) -> 0 | J28: =SUMIFS(Assumptions!J$66:J$118,Assumptions!$F$66:$F$118,AssmStaffScenario,Assumptions!$G$66:$G$118,Calculations!$F28) -> 0 | K28: =SUMIFS(Assumptions!K$66:K$118,Assumptions!$F$66:$F$118,AssmStaffScenario,Assumptions!$G$66:$G$118,Calculations!$F28) -> 1 | L28: =SUMIFS(Assumptions!L$66:L$118,Assumptions!$F$66:$F$118,AssmStaffScenario,Assumptions!$G$66:$G$118,Calculations!$F28) -> 2 | M28: =SUMIFS(Assumptions!M$66:M$118,Assumptions!$F$66:$F$118,AssmStaffScenario,Assumptions!$G$66:$G$118,Calculations!$F28) -> 2 | N28: =SUMIFS(Assumptions!N$66:N$118,Assumptions!$F$66:$F$118,AssmStaffScenario,Assumptions!$G$66:$G$118,Calculations!$F28) -> 3 | O28: =SUMIFS(Assumptions!O$66:O$118,Assumptions!$F$66:$F$118,AssmStaffScenario,Assumptions!$G$66:$G$118,Calculations!$F28) -> 4 | P28: =SUMIFS(Assumptions!P$66:P$118,Assumptions!$F$66:$F$118,AssmStaffScenario,Assumptions!$G$66:$G$118,Calculations!$F28) -> 4 | ... BP28: =SUMIFS(Assumptions!BP$66:BP$118,Assumptions!$F$66:$F$118,AssmStaffScenario,Assumptions!$G$66:$G$118,Calculations!$F28) -> 32
F29: Programmer | H29: =INDEX(tblStaff[Salary],MATCH(Calculations!F29,tblStaff[Staff],0)) -> 90000 | I29: =SUMIFS(Assumptions!I$66:I$118,Assumptions!$F$66:$F$118,AssmStaffScenario,Assumptions!$G$66:$G$118,Calculations!$F29) -> 0 | J29: =SUMIFS(Assumptions!J$66:J$118,Assumptions!$F$66:$F$118,AssmStaffScenario,Assumptions!$G$66:$G$118,Calculations!$F29) -> 0 | K29: =SUMIFS(Assumptions!K$66:K$118,Assumptions!$F$66:$F$118,AssmStaffScenario,Assumptions!$G$66:$G$118,Calculations!$F29) -> 1 | L29: =SUMIFS(Assumptions!L$66:L$118,Assumptions!$F$66:$F$118,AssmStaffScenario,Assumptions!$G$66:$G$118,Calculations!$F29) -> 2 | M29: =SUMIFS(Assumptions!M$66:M$118,Assumptions!$F$66:$F$118,AssmStaffScenario,Assumptions!$G$66:$G$118,Calculations!$F29) -> 3 | N29: =SUMIFS(Assumptions!N$66:N$118,Assumptions!$F$66:$F$118,AssmStaffScenario,Assumptions!$G$66:$G$118,Calculations!$F29) -> 3 | O29: =SUMIFS(Assumptions!O$66:O$118,Assumptions!$F$66:$F$118,AssmStaffScenario,Assumptions!$G$66:$G$118,Calculations!$F29) -> 4 | P29: =SUMIFS(Assumptions!P$66:P$118,Assumptions!$F$66:$F$118,AssmStaffScenario,Assumptions!$G$66:$G$118,Calculations!$F29) -> 4 | ... BP29: =SUMIFS(Assumptions!BP$66:BP$118,Assumptions!$F$66:$F$118,AssmStaffScenario,Assumptions!$G$66:$G$118,Calculations!$F29) -> 31
F30: Graphic Designer | H30: =INDEX(tblStaff[Salary],MATCH(Calculations!F30,tblStaff[Staff],0)) -> 80000 | I30: =SUMIFS(Assumptions!I$66:I$118,Assumptions!$F$66:$F$118,AssmStaffScenario,Assumptions!$G$66:$G$118,Calculations!$F30) -> 0 | J30: =SUMIFS(Assumptions!J$66:J$118,Assumptions!$F$66:$F$118,AssmStaffScenario,Assumptions!$G$66:$G$118,Calculations!$F30) -> 0 | K30: =SUMIFS(Assumptions!K$66:K$118,Assumptions!$F$66:$F$118,AssmStaffScenario,Assumptions!$G$66:$G$118,Calculations!$F30) -> 1 | L30: =SUMIFS(Assumptions!L$66:L$118,Assumptions!$F$66:$F$118,AssmStaffScenario,Assumptions!$G$66:$G$118,Calculations!$F30) -> 1 | M30: =SUMIFS(Assumptions!M$66:M$118,Assumptions!$F$66:$F$118,AssmStaffScenario,Assumptions!$G$66:$G$118,Calculations!$F30) -> 1 | N30: =SUMIFS(Assumptions!N$66:N$118,Assumptions!$F$66:$F$118,AssmStaffScenario,Assumptions!$G$66:$G$118,Calculations!$F30) -> 1 | O30: =SUMIFS(Assumptions!O$66:O$118,Assumptions!$F$66:$F$118,AssmStaffScenario,Assumptions!$G$66:$G$118,Calculations!$F30) -> 2 | P30: =SUMIFS(Assumptions!P$66:P$118,Assumptions!$F$66:$F$118,AssmStaffScenario,Assumptions!$G$66:$G$118,Calculations!$F30) -> 2 | ... BP30: =SUMIFS(Assumptions!BP$66:BP$118,Assumptions!$F$66:$F$118,AssmStaffScenario,Assumptions!$G$66:$G$118,Calculations!$F30) -> 4
F31: Business Development Manager | H31: =INDEX(tblStaff[Salary],MATCH(Calculations!F31,tblStaff[Staff],0)) -> 120000 | I31: =SUMIFS(Assumptions!I$66:I$118,Assumptions!$F$66:$F$118,AssmStaffScenario,Assumptions!$G$66:$G$118,Calculations!$F31) -> 0.5 | J31: =SUMIFS(Assumptions!J$66:J$118,Assumptions!$F$66:$F$118,AssmStaffScenario,Assumptions!$G$66:$G$118,Calculations!$F31) -> 0.5 | K31: =SUMIFS(Assumptions!K$66:K$118,Assumptions!$F$66:$F$118,AssmStaffScenario,Assumptions!$G$66:$G$118,Calculations!$F31) -> 1 | L31: =SUMIFS(Assumptions!L$66:L$118,Assumptions!$F$66:$F$118,AssmStaffScenario,Assumptions!$G$66:$G$118,Calculations!$F31) -> 1 | M31: =SUMIFS(Assumptions!M$66:M$118,Assumptions!$F$66:$F$118,AssmStaffScenario,Assumptions!$G$66:$G$118,Calculations!$F31) -> 1 | N31: =SUMIFS(Assumptions!N$66:N$118,Assumptions!$F$66:$F$118,AssmStaffScenario,Assumptions!$G$66:$G$118,Calculations!$F31) -> 1 | O31: =SUMIFS(Assumptions!O$66:O$118,Assumptions!$F$66:$F$118,AssmStaffScenario,Assumptions!$G$66:$G$118,Calculations!$F31) -> 1 | P31: =SUMIFS(Assumptions!P$66:P$118,Assumptions!$F$66:$F$118,AssmStaffScenario,Assumptions!$G$66:$G$118,Calculations!$F31) -> 1 | ... BP31: =SUMIFS(Assumptions!BP$66:BP$118,Assumptions!$F$66:$F$118,AssmStaffScenario,Assumptions!$G$66:$G$118,Calculations!$F31) -> 1
F32: Salesperson | H32: =INDEX(tblStaff[Salary],MATCH(Calculations!F32,tblStaff[Staff],0)) -> 100000 | I32: =SUMIFS(Assumptions!I$66:I$118,Assumptions!$F$66:$F$118,AssmStaffScenario,Assumptions!$G$66:$G$118,Calculations!$F32) -> 0 | J32: =SUMIFS(Assumptions!J$66:J$118,Assumptions!$F$66:$F$118,AssmStaffScenario,Assumptions!$G$66:$G$118,Calculations!$F32) -> 0 | K32: =SUMIFS(Assumptions!K$66:K$118,Assumptions!$F$66:$F$118,AssmStaffScenario,Assumptions!$G$66:$G$118,Calculations!$F32) -> 0 | L32: =SUMIFS(Assumptions!L$66:L$118,Assumptions!$F$66:$F$118,AssmStaffScenario,Assumptions!$G$66:$G$118,Calculations!$F32) -> 0 | M32: =SUMIFS(Assumptions!M$66:M$118,Assumptions!$F$66:$F$118,AssmStaffScenario,Assumptions!$G$66:$G$118,Calculations!$F32) -> 0 | N32: =SUMIFS(Assumptions!N$66:N$118,Assumptions!$F$66:$F$118,AssmStaffScenario,Assumptions!$G$66:$G$118,Calculations!$F32) -> 1 | O32: =SUMIFS(Assumptions!O$66:O$118,Assumptions!$F$66:$F$118,AssmStaffScenario,Assumptions!$G$66:$G$118,Calculations!$F32) -> 1 | P32: =SUMIFS(Assumptions!P$66:P$118,Assumptions!$F$66:$F$118,AssmStaffScenario,Assumptions!$G$66:$G$118,Calculations!$F32) -> 1 | ... BP32: =SUMIFS(Assumptions!BP$66:BP$118,Assumptions!$F$66:$F$118,AssmStaffScenario,Assumptions!$G$66:$G$118,Calculations!$F32) -> 9
D34: Total Direct Staff Costs | I34: =SUMPRODUCT(I27:I32,$H$27:$H$32)/12 -> 5000 | J34: =SUMPRODUCT(J27:J32,$H$27:$H$32)/12 -> 15000 | K34: =SUMPRODUCT(K27:K32,$H$27:$H$32)/12 -> 42500 | L34: =SUMPRODUCT(L27:L32,$H$27:$H$32)/12 -> 58333.333 | M34: =SUMPRODUCT(M27:M32,$H$27:$H$32)/12 -> 65833.333 | N34: =SUMPRODUCT(N27:N32,$H$27:$H$32)/12 -> 82500 | O34: =SUMPRODUCT(O27:O32,$H$27:$H$32)/12 -> 105000 | P34: =SUMPRODUCT(P27:P32,$H$27:$H$32)/12 -> 105000 | ... BP34: =SUMPRODUCT(BP27:BP32,$H$27:$H$32)/12 -> 620833.33
D36: Other Direct Costs
E37: Sales & Marketing
F38: Marketing (% of Sales) | H38: Marketing | I38: =SUMIFS(INDEX(tblAnnualAssm[],,MATCH(TEXT(Calculations!I$8,"0"),tblAnnualAssm[#Headers],0)),tblAnnualAssm[Case],AssmBusinessCase,tblAnnualAssm[Input Type],$H38) -> 0.3 | J38: =SUMIFS(INDEX(tblAnnualAssm[],,MATCH(TEXT(Calculations!J$8,"0"),tblAnnualAssm[#Headers],0)),tblAnnualAssm[Case],AssmBusinessCase,tblAnnualAssm[Input Type],$H38) -> 0.3 | K38: =SUMIFS(INDEX(tblAnnualAssm[],,MATCH(TEXT(Calculations!K$8,"0"),tblAnnualAssm[#Headers],0)),tblAnnualAssm[Case],AssmBusinessCase,tblAnnualAssm[Input Type],$H38) -> 0.3 | L38: =SUMIFS(INDEX(tblAnnualAssm[],,MATCH(TEXT(Calculations!L$8,"0"),tblAnnualAssm[#Headers],0)),tblAnnualAssm[Case],AssmBusinessCase,tblAnnualAssm[Input Type],$H38) -> 0.3 | M38: =SUMIFS(INDEX(tblAnnualAssm[],,MATCH(TEXT(Calculations!M$8,"0"),tblAnnualAssm[#Headers],0)),tblAnnualAssm[Case],AssmBusinessCase,tblAnnualAssm[Input Type],$H38) -> 0.3 | N38: =SUMIFS(INDEX(tblAnnualAssm[],,MATCH(TEXT(Calculations!N$8,"0"),tblAnnualAssm[#Headers],0)),tblAnnualAssm[Case],AssmBusinessCase,tblAnnualAssm[Input Type],$H38) -> 0.3 | O38: =SUMIFS(INDEX(tblAnnualAssm[],,MATCH(TEXT(Calculations!O$8,"0"),tblAnnualAssm[#Headers],0)),tblAnnualAssm[Case],AssmBusinessCase,tblAnnualAssm[Input Type],$H38) -> 0.3 | P38: =SUMIFS(INDEX(tblAnnualAssm[],,MATCH(TEXT(Calculations!P$8,"0"),tblAnnualAssm[#Headers],0)),tblAnnualAssm[Case],AssmBusinessCase,tblAnnualAssm[Input Type],$H38) -> 0.3 | ... BP38: =SUMIFS(INDEX(tblAnnualAssm[],,MATCH(TEXT(Calculations!BP$8,"0"),tblAnnualAssm[#Headers],0)),tblAnnualAssm[Case],AssmBusinessCase,tblAnnualAssm[Input Type],$H38) -> 0.1
F39: Marketing costs | I39: =I38*I22 -> 774 | J39: =J38*J22 -> 1002 | K39: =K38*K22 -> 1296 | L39: =L38*L22 -> 1680 | M39: =M38*M22 -> 2178 | N39: =N38*N22 -> 2826 | O39: =O38*O22 -> 3660 | P39: =P38*P22 -> 4746 | ... BP39: =BP38*BP22 -> 4588161
E41: Total Sales & Marketing costs | I41: =I39 -> 774 | J41: =J39 -> 1002 | K41: =K39 -> 1296 | L41: =L39 -> 1680 | M41: =M39 -> 2178 | N41: =N39 -> 2826 | O41: =O39 -> 3660 | P41: =P39 -> 4746 | ... BP41: =BP39 -> 4588161
D43: Total Other Direct Costs | I43: =I41 -> 774 | J43: =J41 -> 1002 | K43: =K41 -> 1296 | L43: =L41 -> 1680 | M43: =M41 -> 2178 | N43: =N41 -> 2826 | O43: =O41 -> 3660 | P43: =P41 -> 4746 | ... BP43: =BP41 -> 4588161
C45: Total Direct Costs | I45: =I43+I34 -> 5774 | J45: =J43+J34 -> 16002 | K45: =K43+K34 -> 43796 | L45: =L43+L34 -> 60013.333 | M45: =M43+M34 -> 68011.333 | N45: =N43+N34 -> 85326 | O45: =O43+O34 -> 108660 | P45: =P43+P34 -> 109746 | ... BP45: =BP43+BP34 -> 5208994.3
C47: Gross Profit | I47: =I22-I45 -> -3194 | J47: =J22-J45 -> -12662 | K47: =K22-K45 -> -39476 | L47: =L22-L45 -> -54413.333 | M47: =M22-M45 -> -60751.333 | N47: =N22-N45 -> -75906 | O47: =O22-O45 -> -96460 | P47: =P22-P45 -> -93926 | ... BP47: =BP22-BP45 -> 40672616
C49: Indirect Costs
D51: Indirect Staff Costs
E52: Staff Numbers | H52: Annual Salary
F53: CEO | H53: =INDEX(tblStaff[Salary],MATCH(Calculations!F53,tblStaff[Staff],0)) -> 150000 | I53: =SUMIFS(Assumptions!I$66:I$118,Assumptions!$F$66:$F$118,AssmStaffScenario,Assumptions!$G$66:$G$118,Calculations!$F53) -> 1 | J53: =SUMIFS(Assumptions!J$66:J$118,Assumptions!$F$66:$F$118,AssmStaffScenario,Assumptions!$G$66:$G$118,Calculations!$F53) -> 1 | K53: =SUMIFS(Assumptions!K$66:K$118,Assumptions!$F$66:$F$118,AssmStaffScenario,Assumptions!$G$66:$G$118,Calculations!$F53) -> 1 | L53: =SUMIFS(Assumptions!L$66:L$118,Assumptions!$F$66:$F$118,AssmStaffScenario,Assumptions!$G$66:$G$118,Calculations!$F53) -> 1 | M53: =SUMIFS(Assumptions!M$66:M$118,Assumptions!$F$66:$F$118,AssmStaffScenario,Assumptions!$G$66:$G$118,Calculations!$F53) -> 1 | N53: =SUMIFS(Assumptions!N$66:N$118,Assumptions!$F$66:$F$118,AssmStaffScenario,Assumptions!$G$66:$G$118,Calculations!$F53) -> 1 | O53: =SUMIFS(Assumptions!O$66:O$118,Assumptions!$F$66:$F$118,AssmStaffScenario,Assumptions!$G$66:$G$118,Calculations!$F53) -> 1 | P53: =SUMIFS(Assumptions!P$66:P$118,Assumptions!$F$66:$F$118,AssmStaffScenario,Assumptions!$G$66:$G$118,Calculations!$F53) -> 1 | ... BP53: =SUMIFS(Assumptions!BP$66:BP$118,Assumptions!$F$66:$F$118,AssmStaffScenario,Assumptions!$G$66:$G$118,Calculations!$F53) -> 1
F54: Marketing Manager | H54: =INDEX(tblStaff[Salary],MATCH(Calculations!F54,tblStaff[Staff],0)) -> 80000 | I54: =SUMIFS(Assumptions!I$66:I$118,Assumptions!$F$66:$F$118,AssmStaffScenario,Assumptions!$G$66:$G$118,Calculations!$F54) -> 0 | J54: =SUMIFS(Assumptions!J$66:J$118,Assumptions!$F$66:$F$118,AssmStaffScenario,Assumptions!$G$66:$G$118,Calculations!$F54) -> 0 | K54: =SUMIFS(Assumptions!K$66:K$118,Assumptions!$F$66:$F$118,AssmStaffScenario,Assumptions!$G$66:$G$118,Calculations!$F54) -> 1 | L54: =SUMIFS(Assumptions!L$66:L$118,Assumptions!$F$66:$F$118,AssmStaffScenario,Assumptions!$G$66:$G$118,Calculations!$F54) -> 1 | M54: =SUMIFS(Assumptions!M$66:M$118,Assumptions!$F$66:$F$118,AssmStaffScenario,Assumptions!$G$66:$G$118,Calculations!$F54) -> 1 | N54: =SUMIFS(Assumptions!N$66:N$118,Assumptions!$F$66:$F$118,AssmStaffScenario,Assumptions!$G$66:$G$118,Calculations!$F54) -> 1 | O54: =SUMIFS(Assumptions!O$66:O$118,Assumptions!$F$66:$F$118,AssmStaffScenario,Assumptions!$G$66:$G$118,Calculations!$F54) -> 1 | P54: =SUMIFS(Assumptions!P$66:P$118,Assumptions!$F$66:$F$118,AssmStaffScenario,Assumptions!$G$66:$G$118,Calculations!$F54) -> 1 | ... BP54: =SUMIFS(Assumptions!BP$66:BP$118,Assumptions!$F$66:$F$118,AssmStaffScenario,Assumptions!$G$66:$G$118,Calculations!$F54) -> 1
...

Sheet Assumptions
B1: =AssmModelHeader -> Growth Startup (High)
B2: =RIGHT(CELL("filename",A1),LEN(CELL("filename",A1))-FIND("]",CELL("filename",A1))) -> Assumptions
A3: ToC
A4: =ErrChkOverall -> TRUE
D6: Overall Model Assumptions | G6: Range Name | H6: Value | I6: Units
E7: General Assumptions
E8: Model name | G8: AssmModelName | H8: Growth Startup | I8: Text
E9: Start Date | G9: AssmStartDate | H9: =DATE(YEAR(NOW())+1,1,1) -> 46388 | I9: Date
E10: Company Tax Rate | G10: AssmCoTaxRate | H10: 0.3 | I10: % | M10: Debtor Collection Assumptions
E11: Business Case | G11: AssmBusinessCase | H11: High | M11: Months | N11: %
E12: Staffing Scenario | G12: AssmStaffScenario | H12: Fast | M12: 0 | N12: 0.6
E13: Model Header | G13: AssmModelHeader | H13: =AssmModelName&" ("&AssmBusinessCase&")"&IF(ErrChkOverall,""," errors exist") -> Growth Startup (High) | M13: 1 | N13: 0.2
E14: Legal fees | G14: AssmLegal | H14: 600 | I14: per month | M14: 2 | N14: 0.1
E15: Accounting & bookkeeping | G15: AssmAccounting | H15: 200 | I15: per month (doubling every 12 months) | M15: 3 | N15: =1-SUM(N12:N14) -> 0.1
E16: IT Support | G16: AssmIT | H16: 200 | I16: per month (doubling every 12 months)
E17: Bank fees | G17: AssmBankFees | H17: 0.02 | I17: of revenue | M17: Creditor Payment Assumptions
E18: Server hosting & data | G18: AssmHosting | H18: 300 | I18: per month (doubling every 12 months) | M18: Months | N18: %
E19: Office costs | G19: AssmOffice | H19: 100 | I19: per full-time employee | M19: 0 | N19: 0.1
E20: Telecommunications | G20: AssmTelecom | H20: 50 | I20: per full-time employee | M20: 1 | N20: 0.8
E21: Other (contingency) | G21: AssmContingency | H21: 0.1 | I21: of total expenditure | M21: 2 | N21: 0.1
E22: Credit Interest Rate | G22: AssmCrInterest | H22: 0.035 | I22: % pa | M22: 3 | N22: =1-SUM(N19:N21) -> 0
E23: Laptop cost | G23: AssmLaptop | H23: 2000 | I23: $/person
E24: Laptop effective life | G24: AssmLaptopLife | H24: 24 | I24: months
E25: Bank Loan Amount | G25: AssmLoanAmt | H25: 1000000
E26: Bank Loan Term | G26: AssmLoanTerm | H26: 36 | I26: months
E27: Founder's Property Value | G27: AssmLoanSecurity | H27: 800000
E28: Bank Loan Interest Rate | G28: AssmDrInterest | H28: 0.05 | I28: % pa
E29: Bank Loan Commencement Date | G29: AssmLoanStart | H29: =EOMONTH(AssmStartDate,2) -> 46477 | I29: date
E30: Shareholders' funds | G30: AssmEquity | H30: 1000000
E31: Shareholders' funds contribution date | G31: AssmEquityDate | H31: =EOMONTH(AssmStartDate,0) -> 46418
E32: WACC | G32: AssmWACC | H32: 0.1
E33: Terminal Value Growth Rate | G33: AssmTVGrowthRate | H33: 0.02
D35: Annual Assumptions
E36: Key Inputs
F37: tblAnnualAssm | I37: Year
F38: Case | G38: Input Type | H38: Description | I38: 1 | J38: 2 | K38: 3 | L38: 4 | M38: 5
F39: Low | G39: CustomerNum | H39: =INDEX(tblInputType[Description],MATCH(tblAnnualAssm[[#This Row],[Input Type]],tblInputType[Input Type],0)) -> Customer # Growth Rate per Mth | I39: 0.2 | J39: 0.2 | K39: 0.1 | L39: 0.05 | M39: 0.05
F40: Base | G40: CustomerNum | H40: =INDEX(tblInputType[Description],MATCH(tblAnnualAssm[[#This Row],[Input Type]],tblInputType[Input Type],0)) -> Customer # Growth Rate per Mth | I40: 0.2 | J40: 0.25 | K40: 0.2 | L40: 0.1 | M40: 0.1
F41: High | G41: CustomerNum | H41: =INDEX(tblInputType[Description],MATCH(tblAnnualAssm[[#This Row],[Input Type]],tblInputType[Input Type],0)) -> Customer # Growth Rate per Mth | I41: 0.3 | J41: 0.3 | K41: 0.1 | L41: 0.1 | M41: 0.1
F42: Low | G42: AttritionRate | H42: =INDEX(tblInputType[Description],MATCH(tblAnnualAssm[[#This Row],[Input Type]],tblInputType[Input Type],0)) -> Attrition rate per year | I42: 0.01 | J42: 0.01 | K42: 0.01 | L42: 0.01 | M42: 0.01
...

Sheet Tables
B1: =AssmModelHeader -> Growth Startup (High)
B2: Reference Tables
A3: ToC
A4: =ErrChkOverall -> TRUE
B6: refCaseNames
B7: Case | C7: Starting Customers
B8: Low | C8: 30
B9: Base | C9: 50
B10: High | C10: 100
B12: tblInputType
B13: Input Type | C13: Description
B14: CustomerNum | C14: Customer # Growth Rate per Mth
B15: AttritionRate | C15: Attrition rate per year
B16: Price | C16: $/month
B17: Marketing | C17: % of Sales
B18: Rent | C18: Rent per person per mth
B20: refStaffScenario
B21: Staffing Scenario
B22: Gradual
B23: Slow
B24: Base
B25: Fast
B27: refStaffPositions
B28: Staff | C28: Salary
B29: CTO | C29: 120000
B30: Senior Programmer | C30: 100000
B31: Programmer | C31: 90000
B32: Graphic Designer | C32: 80000
B33: Business Development Manager | C33: 120000
B34: Salesperson | C34: 100000
B35: CEO | C35: 150000
B36: Marketing Manager | C36: 80000
B37: Marketing Assistant | C37: 60000
B38: Office Manager | C38: 60000

Sheet Format Conventions
B1: =AssmModelHeader -> Growth Startup (High)
B2: Modelling Conventions
A3: ToC
B6: Styles and Conventions used in this Model
C8: Data Entry | D8: Data entry cell
C9: Calculation | D9: Calculation
C10: Error | D10: Error message - Error
C11: OK | D11: Error message - OK
C12: RangeName | D12: Name of named range
C13: Hyperlink | D13: Hyperlink
C15: Heading 1 | D15: Heading level 1
C16: Heading 2 | D16: Heading level 2
C17: Heading 3 | D17: Heading level 3

Sheet Structure
B1: =AssmModelHeader -> Growth Startup (High)
B2: File Structure
A3: ToC

Sheet Guidance
B1: =AssmModelHeader -> Growth Startup (High)
B2: Guidance
A3: ToC
B5: Model Details
B6: Author: | C6: Jeff Robson
B7: Contact: | C7: +61 8 6210 8500
B8: Date: | C8: 42846
B9: Version: | C9: 1
B10: Owner: | C10: M Owner
B12: Model Purpose & Overview

Sheet ToDo
B1: =AssmModelHeader -> Growth Startup (High)
B2: ToDo List
A3: ToC
B5: Date | C5: Description | D5: Assigned to | E5: Completed by | F5: Completed On
B6: =TODAY() -> 46269 | C6: Resolve balance sheet issue | D6: J Robson

Sheet Change Log
B1: =AssmModelHeader -> Growth Startup (High)
B2: Change Log
A3: ToC
B5: Date | C5: Description | D5: Version | E5: Changed by | F5: Checked by
B6: =TODAY()-30 -> 46239 | C6: Completed initial model | D6: 1 | E6: J Robson | F6: M Odel
B7: =TODAY()-10 -> 46259 | C7: Added documentation | D7: 1.01 | E7: J Robson | F7: G S Lowe

Sheet _APIConfig
B1: =AssmModelHeader -> Growth Startup (High)
B2: AccessEXL Config
A3: ToC
B4: APIConfigTable
B5: RangeName | C5: Current Value | D5: Direction | E5: Type | F5: Min | G5: Max | H5: ValidationRangeName | I5: Description | J5: Display Name
B6: AssmBusinessCase | C6: {=INDIRECT(APIConfigTable[[#This Row],[RangeName]])} -> High | D6: Write | E6: Text | H6: refCaseNames | I6: Business case scenarios | J6: Business Case
B7: AssmStaffScenario | C7: {=INDIRECT(APIConfigTable[[#This Row],[RangeName]])} -> Fast | D7: Write | E7: Text | H7: refStaffScenario | I7: Staffing scenarios | J7: Staffing Ramp up Speed
B8: AssmLoanAmt | C8: {=INDIRECT(APIConfigTable[[#This Row],[RangeName]])} -> 1000000 | D8: Write | E8: Number | F8: 0 | G8: 10000000 | I8: P&I debt funding amount | J8: Loan Amount
B9: AssmDrInterest | C9: {=INDIRECT(APIConfigTable[[#This Row],[RangeName]])} -> 0.05 | D9: Write | E9: Number | F9: 0 | G9: 0.15 | I9: Loan Interest rate | J9: Loan Interest rate
B10: AssmWACC | C10: {=INDIRECT(APIConfigTable[[#This Row],[RangeName]])} -> 0.1 | D10: Write | E10: Number | F10: 0 | G10: 0.3 | I10: WACC | J10: Weighted Average Cost of Capital
B11: V_NPV | C11: {=INDIRECT(APIConfigTable[[#This Row],[RangeName]])} -> 3.586123e+08 | D11: Read | E11: Number | I11: NPV | J11: Net Present Value
B12: V_IRR | C12: {=INDIRECT(APIConfigTable[[#This Row],[RangeName]])} -> 3.7125932 | D12: Read | E12: Number | I12: IRR | J12: Internal Rate of Return
B13: V_CashFlow | C13: {=INDIRECT(APIConfigTable[[#This Row],[RangeName]])} -> 2.4848128e+08 | D13: Read | E13: Number | I13: Total of all Cash Flows | J13: Total of all Cash Flows
B14: V_NPATperYr | C14: {=INDIRECT(APIConfigTable[[#This Row],[RangeName]])} -> #VALUE! | D14: Read | E14: Number | I14: NPAT per year | J14: Net profit after tax per year
